BEGIN:VCALENDAR
VERSION:2.0
PRODID:-//Wildcat JROTC CAG - ECPv6.15.20//NONSGML v1.0//EN
CALSCALE:GREGORIAN
METHOD:PUBLISH
X-ORIGINAL-URL:https://8gendesigns.com/wildcatsjrotccag
X-WR-CALDESC:Events for Wildcat JROTC CAG
REFRESH-INTERVAL;VALUE=DURATION:PT1H
X-Robots-Tag:noindex
X-PUBLISHED-TTL:PT1H
BEGIN:VTIMEZONE
TZID:America/Chicago
BEGIN:DAYLIGHT
TZOFFSETFROM:-0600
TZOFFSETTO:-0500
TZNAME:CDT
DTSTART:20240310T080000
END:DAYLIGHT
BEGIN:STANDARD
TZOFFSETFROM:-0500
TZOFFSETTO:-0600
TZNAME:CST
DTSTART:20241103T070000
END:STANDARD
BEGIN:DAYLIGHT
TZOFFSETFROM:-0600
TZOFFSETTO:-0500
TZNAME:CDT
DTSTART:20250309T080000
END:DAYLIGHT
BEGIN:STANDARD
TZOFFSETFROM:-0500
TZOFFSETTO:-0600
TZNAME:CST
DTSTART:20251102T070000
END:STANDARD
BEGIN:DAYLIGHT
TZOFFSETFROM:-0600
TZOFFSETTO:-0500
TZNAME:CDT
DTSTART:20260308T080000
END:DAYLIGHT
BEGIN:STANDARD
TZOFFSETFROM:-0500
TZOFFSETTO:-0600
TZNAME:CST
DTSTART:20261101T070000
END:STANDARD
END:VTIMEZONE
BEGIN:VEVENT
DTSTART;TZID=America/Chicago:20250728T080000
DTEND;TZID=America/Chicago:20250801T120000
DTSTAMP:20260420T094242
CREATED:20250728T094739Z
LAST-MODIFIED:20250728T094739Z
UID:1291-1753689600-1754049600@8gendesigns.com
SUMMARY:JROTC Freshman Camp
DESCRIPTION:The JROTC Freshman Camp kicks off July 28–August 1 at Sotomayor High School from 8AM–12PM!\n📌 Open to ALL incoming freshmen\n🚪 Enter through the front entrance\n🦅 Get ready to lead\, learn\, and LEVEL UP with discipline and pride!
URL:https://8gendesigns.com/wildcatsjrotccag/event/jrotc-freshman-camp/
LOCATION:Sonia Sotomayor High School\, 12801 Tall Timber Ln\, San Antonio\, Texas\, 78254\, United States
ATTACH;FMTTYPE=image/png:https://8gendesigns.com/wildcatsjrotccag/wp-content/uploads/sites/7/2025/07/image_2025-07-28_044707198.png
END:VEVENT
END:VCALENDAR